BEGIN:VCALENDAR
VERSION:2.0
PRODID:-//Nepali Calendar//EN
BEGIN:VEVENT
UID:ab2c7962e07408ed06c941f875e31efa@nepalicalendar.com
DTSTAMP:20260422T190755Z
DTSTART;VALUE=DATE:20240620
DTEND;VALUE=DATE:20240621
SUMMARY:विश्व शरणार्थी दिवस
DESCRIPTION:विश्व शरणार्थी दिवस
END:VEVENT
END:VCALENDAR