BEGIN:VCALENDAR
VERSION:2.0
PRODID:-//Nepali Calendar//EN
BEGIN:VEVENT
UID:82c57415ac4a6c281ce72510dbdfe61f@nepalicalendar.com
DTSTAMP:20260422T190919Z
DTSTART;VALUE=DATE:20240619
DTEND;VALUE=DATE:20240620
SUMMARY:द्वन्द्वमा यौन हिंसा उन्मूलनको लागि अन्तर्राष्ट्रिय दिवस
DESCRIPTION:द्वन्द्वमा यौन हिंसा उन्मूलनको लागि अन्तर्राष्ट्रिय दिवस
END:VEVENT
END:VCALENDAR