BEGIN:VCALENDAR
VERSION:2.0
PRODID:-//Nepali Calendar//EN
BEGIN:VEVENT
UID:de2d27bb87c8d3c9088815c974203ec4@nepalicalendar.com
DTSTAMP:20260422T190847Z
DTSTART;VALUE=DATE:20240618
DTEND;VALUE=DATE:20240619
SUMMARY:वैष्णवहरूको निर्जला एकादशी व्रत (तुलसीको दल राख्ने दिन )
DESCRIPTION:वैष्णवहरूको निर्जला एकादशी व्रत (तुलसीको दल राख्ने दिन )
END:VEVENT
END:VCALENDAR