BEGIN:VCALENDAR
VERSION:2.0
PRODID:-//Nepali Calendar//EN
BEGIN:VEVENT
UID:fc1acf5926beafdd6a719524ba476cd2@nepalicalendar.com
DTSTAMP:20260422T191117Z
DTSTART;VALUE=DATE:20240617
DTEND;VALUE=DATE:20240618
SUMMARY:स्मार्तहरूको निर्जला एकादशी व्रत
DESCRIPTION:स्मार्तहरूको निर्जला एकादशी व्रत
END:VEVENT
END:VCALENDAR