BEGIN:VCALENDAR
VERSION:2.0
PRODID:-//Nepali Calendar//EN
BEGIN:VEVENT
UID:684fb7eef826b88f908ad47378f06ce9@nepalicalendar.com
DTSTAMP:20260422T190816Z
DTSTART;VALUE=DATE:20240617
DTEND;VALUE=DATE:20240618
SUMMARY:विश्व खडेरी विरुद्ध संघर्ष दिवस
DESCRIPTION:विश्व खडेरी विरुद्ध संघर्ष दिवस
END:VEVENT
END:VCALENDAR