BEGIN:VCALENDAR
VERSION:2.0
PRODID:-//Nepali Calendar//EN
BEGIN:VEVENT
UID:0ca152e212b3899f873d790789bdc17c@nepalicalendar.com
DTSTAMP:20260422T190817Z
DTSTART;VALUE=DATE:20240617
DTEND;VALUE=DATE:20240618
SUMMARY:बक्र ईद (उल–अजहा)
DESCRIPTION:बक्र ईद (उल–अजहा)
END:VEVENT
END:VCALENDAR