BEGIN:VCALENDAR
VERSION:2.0
PRODID:-//Nepali Calendar//EN
BEGIN:VEVENT
UID:2e0d80c90ef174256ce2a4d66fe17c70@nepalicalendar.com
DTSTAMP:20260422T010015Z
DTSTART;VALUE=DATE:20250611
DTEND;VALUE=DATE:20250612
SUMMARY:कवीर जयन्ती
DESCRIPTION:कवीर जयन्ती
END:VEVENT
END:VCALENDAR