BEGIN:VCALENDAR
VERSION:2.0
PRODID:-//Nepali Calendar//EN
BEGIN:VEVENT
UID:77f571043b6c2a231641d11b8e746497@nepalicalendar.com
DTSTAMP:20260422T023114Z
DTSTART;VALUE=DATE:20250414
DTEND;VALUE=DATE:20250415
SUMMARY:मेष संक्रान्ति
DESCRIPTION:मेष संक्रान्ति
END:VEVENT
END:VCALENDAR