BEGIN:VCALENDAR
VERSION:2.0
PRODID:-//Nepali Calendar//EN
BEGIN:VEVENT
UID:98e81cdf2e86a51f2ccb0b5530357a8e@nepalicalendar.com
DTSTAMP:20260422T204311Z
DTSTART;VALUE=DATE:20240616
DTEND;VALUE=DATE:20240617
SUMMARY:अन्तर्राष्ट्रिय बुवा दिवस
DESCRIPTION:अन्तर्राष्ट्रिय बुवा दिवस
END:VEVENT
END:VCALENDAR