BEGIN:VCALENDAR
VERSION:2.0
PRODID:-//Nepali Calendar//EN
BEGIN:VEVENT
UID:9121e303bea97dd545aad64bdbd37978@nepalicalendar.com
DTSTAMP:20260422T191204Z
DTSTART;VALUE=DATE:20240616
DTEND;VALUE=DATE:20240617
SUMMARY:अन्तर्राष्ट्रिय परिवार रेमिटेयान्स दिवस
DESCRIPTION:अन्तर्राष्ट्रिय परिवार रेमिटेयान्स दिवस
END:VEVENT
END:VCALENDAR