BEGIN:VCALENDAR
VERSION:2.0
PRODID:-//Nepali Calendar//EN
BEGIN:VEVENT
UID:09e3f9f2d52b169ce30523e10c3c74a5@nepalicalendar.com
DTSTAMP:20260422T190919Z
DTSTART;VALUE=DATE:20240616
DTEND;VALUE=DATE:20240617
SUMMARY:गोसाइकुण्ड स्नान समाप्ति
DESCRIPTION:गोसाइकुण्ड स्नान समाप्ति
END:VEVENT
END:VCALENDAR