BEGIN:VCALENDAR
VERSION:2.0
PRODID:-//Nepali Calendar//EN
BEGIN:VEVENT
UID:6dc341cf42258f78f130c96165fb7c7a@nepalicalendar.com
DTSTAMP:20260422T191148Z
DTSTART;VALUE=DATE:20240616
DTEND;VALUE=DATE:20240617
SUMMARY:गङ्गादशहरा व्रत
DESCRIPTION:गङ्गादशहरा व्रत
END:VEVENT
END:VCALENDAR