BEGIN:VCALENDAR
VERSION:2.0
PRODID:-//Nepali Calendar//EN
BEGIN:VEVENT
UID:6eb43b749fd5c9605fc754b470b161c4@nepalicalendar.com
DTSTAMP:20260422T191317Z
DTSTART;VALUE=DATE:20240615
DTEND;VALUE=DATE:20240616
SUMMARY:विश्व अग्रज दुर्व्यवहार जागरुकता दिवस
DESCRIPTION:विश्व अग्रज दुर्व्यवहार जागरुकता दिवस
END:VEVENT
END:VCALENDAR