BEGIN:VCALENDAR
VERSION:2.0
PRODID:-//Nepali Calendar//EN
BEGIN:VEVENT
UID:b32cda55846201637ac242f80cca65e9@nepalicalendar.com
DTSTAMP:20260422T191317Z
DTSTART;VALUE=DATE:20240615
DTEND;VALUE=DATE:20240616
SUMMARY:मिथुन संक्रान्ति
DESCRIPTION:मिथुन संक्रान्ति
END:VEVENT
END:VCALENDAR