BEGIN:VCALENDAR
VERSION:2.0
PRODID:-//Nepali Calendar//EN
BEGIN:VEVENT
UID:d6dcc7b512f299d69c210f062aa60b14@nepalicalendar.com
DTSTAMP:20260422T204315Z
DTSTART;VALUE=DATE:20240614
DTEND;VALUE=DATE:20240615
SUMMARY:विश्व रक्तदाता दिवस
DESCRIPTION:विश्व रक्तदाता दिवस
END:VEVENT
END:VCALENDAR