BEGIN:VCALENDAR
VERSION:2.0
PRODID:-//Nepali Calendar//EN
BEGIN:VEVENT
UID:be63ec82a9676aba56c1140ae87f0991@nepalicalendar.com
DTSTAMP:20260422T204413Z
DTSTART;VALUE=DATE:20240614
DTEND;VALUE=DATE:20240615
SUMMARY:गोरखकाली पूजा
DESCRIPTION:गोरखकाली पूजा
END:VEVENT
END:VCALENDAR