BEGIN:VCALENDAR
VERSION:2.0
PRODID:-//Nepali Calendar//EN
BEGIN:VEVENT
UID:7d696e162726314634dfc9bf67b86493@nepalicalendar.com
DTSTAMP:20260422T204316Z
DTSTART;VALUE=DATE:20240612
DTEND;VALUE=DATE:20240613
SUMMARY:विश्व बालश्रम विरुद्ध दिवस
DESCRIPTION:विश्व बालश्रम विरुद्ध दिवस
END:VEVENT
END:VCALENDAR