BEGIN:VCALENDAR
VERSION:2.0
PRODID:-//Nepali Calendar//EN
BEGIN:VEVENT
UID:c5207319ee45c4c2d17f6c948624ba3c@nepalicalendar.com
DTSTAMP:20260422T204532Z
DTSTART;VALUE=DATE:20240612
DTEND;VALUE=DATE:20240613
SUMMARY:सिथि नख:
DESCRIPTION:सिथि नख:
END:VEVENT
END:VCALENDAR