BEGIN:VCALENDAR
VERSION:2.0
PRODID:-//Nepali Calendar//EN
BEGIN:VEVENT
UID:ed39f8aefa13bf3961966e768be94977@nepalicalendar.com
DTSTAMP:20260422T005645Z
DTSTART;VALUE=DATE:20250611
DTEND;VALUE=DATE:20250612
SUMMARY:ज्यापुन्ही
DESCRIPTION:ज्यापुन्ही
END:VEVENT
END:VCALENDAR