BEGIN:VCALENDAR
VERSION:2.0
PRODID:-//Nepali Calendar//EN
BEGIN:VEVENT
UID:7c50b99b0922a49eaf102dbfe34f9ea6@nepalicalendar.com
DTSTAMP:20260422T204619Z
DTSTART;VALUE=DATE:20240609
DTEND;VALUE=DATE:20240610
SUMMARY:राष्ट्रिय कृषक दिवस
DESCRIPTION:राष्ट्रिय कृषक दिवस
END:VEVENT
END:VCALENDAR