BEGIN:VCALENDAR
VERSION:2.0
PRODID:-//Nepali Calendar//EN
BEGIN:VEVENT
UID:9a97327db63929f868976e1582685076@nepalicalendar.com
DTSTAMP:20260422T204525Z
DTSTART;VALUE=DATE:20240608
DTEND;VALUE=DATE:20240609
SUMMARY:नेपाल गौरव यात्रा
DESCRIPTION:नेपाल गौरव यात्रा
END:VEVENT
END:VCALENDAR