BEGIN:VCALENDAR
VERSION:2.0
PRODID:-//Nepali Calendar//EN
BEGIN:VEVENT
UID:9df984ef09d171bc00814066202b8a92@nepalicalendar.com
DTSTAMP:20260422T204525Z
DTSTART;VALUE=DATE:20240607
DTEND;VALUE=DATE:20240608
SUMMARY:दशहरा स्नान आरम्भ
DESCRIPTION:दशहरा स्नान आरम्भ
END:VEVENT
END:VCALENDAR