BEGIN:VCALENDAR
VERSION:2.0
PRODID:-//Nepali Calendar//EN
BEGIN:VEVENT
UID:d63021ed021055bef5872a24b910546d@nepalicalendar.com
DTSTAMP:20260422T204653Z
DTSTART;VALUE=DATE:20240607
DTEND;VALUE=DATE:20240608
SUMMARY:गोसाइकुण्ड स्नान आरम्भ
DESCRIPTION:गोसाइकुण्ड स्नान आरम्भ
END:VEVENT
END:VCALENDAR