BEGIN:VCALENDAR
VERSION:2.0
PRODID:-//Nepali Calendar//EN
BEGIN:VEVENT
UID:486d3a4199b55e8faaebd2626d273a44@nepalicalendar.com
DTSTAMP:20260422T204219Z
DTSTART;VALUE=DATE:20240606
DTEND;VALUE=DATE:20240607
SUMMARY:शनि जयन्ती व्रत
DESCRIPTION:शनि जयन्ती व्रत
END:VEVENT
END:VCALENDAR