BEGIN:VCALENDAR
VERSION:2.0
PRODID:-//Nepali Calendar//EN
BEGIN:VEVENT
UID:18cc6275f60c26c0ea39f20ff3f35bac@nepalicalendar.com
DTSTAMP:20260422T204153Z
DTSTART;VALUE=DATE:20240606
DTEND;VALUE=DATE:20240607
SUMMARY:बटसावित्री व्रत
DESCRIPTION:बटसावित्री व्रत
END:VEVENT
END:VCALENDAR