BEGIN:VCALENDAR
VERSION:2.0
PRODID:-//Nepali Calendar//EN
BEGIN:VEVENT
UID:6d7d408333038c4f9317674b335024c3@nepalicalendar.com
DTSTAMP:20260422T204402Z
DTSTART;VALUE=DATE:20240605
DTEND;VALUE=DATE:20240606
SUMMARY:विश्व वातावरण दिवस
DESCRIPTION:विश्व वातावरण दिवस
END:VEVENT
END:VCALENDAR