BEGIN:VCALENDAR
VERSION:2.0
PRODID:-//Nepali Calendar//EN
BEGIN:VEVENT
UID:62219d1a1b9e085e17d714898d1cbc58@nepalicalendar.com
DTSTAMP:20260422T204414Z
DTSTART;VALUE=DATE:20240605
DTEND;VALUE=DATE:20240606
SUMMARY:सिथि चःह्रे
DESCRIPTION:सिथि चःह्रे
END:VEVENT
END:VCALENDAR