BEGIN:VCALENDAR
VERSION:2.0
PRODID:-//Nepali Calendar//EN
BEGIN:VEVENT
UID:fefb3072da81dfcee15e4c3689740502@nepalicalendar.com
DTSTAMP:20260422T204245Z
DTSTART;VALUE=DATE:20240604
DTEND;VALUE=DATE:20240605
SUMMARY:निर्दोष बालबालिका माथि अत्याचार विरुद्धको दिवस
DESCRIPTION:निर्दोष बालबालिका माथि अत्याचार विरुद्धको दिवस
END:VEVENT
END:VCALENDAR