BEGIN:VCALENDAR
VERSION:2.0
PRODID:-//Nepali Calendar//EN
BEGIN:VEVENT
UID:de2c5194ad63719aaa53ae757d8a051f@nepalicalendar.com
DTSTAMP:20260422T204618Z
DTSTART;VALUE=DATE:20240604
DTEND;VALUE=DATE:20240605
SUMMARY:प्रदोष व्रत
DESCRIPTION:प्रदोष व्रत
END:VEVENT
END:VCALENDAR