BEGIN:VCALENDAR
VERSION:2.0
PRODID:-//Nepali Calendar//EN
BEGIN:VEVENT
UID:910e377d72bba01c976e02db9ae65c4f@nepalicalendar.com
DTSTAMP:20260422T204531Z
DTSTART;VALUE=DATE:20240603
DTEND;VALUE=DATE:20240604
SUMMARY:जातीय भेदभाव तथा छुवाछुत उन्मुलन राष्ट्रिय दिवस
DESCRIPTION:जातीय भेदभाव तथा छुवाछुत उन्मुलन राष्ट्रिय दिवस
END:VEVENT
END:VCALENDAR