BEGIN:VCALENDAR
VERSION:2.0
PRODID:-//Nepali Calendar//EN
BEGIN:VEVENT
UID:817ee1cac6c277f3752a3f935c714a6e@nepalicalendar.com
DTSTAMP:20260422T204613Z
DTSTART;VALUE=DATE:20240603
DTEND;VALUE=DATE:20240604
SUMMARY:वैष्णवहरूको अपरा एकादशी व्रत
DESCRIPTION:वैष्णवहरूको अपरा एकादशी व्रत
END:VEVENT
END:VCALENDAR