BEGIN:VCALENDAR
VERSION:2.0
PRODID:-//Nepali Calendar//EN
BEGIN:VEVENT
UID:6e0e701eba6cba8740c6464f6dde37eb@nepalicalendar.com
DTSTAMP:20260422T204218Z
DTSTART;VALUE=DATE:20240602
DTEND;VALUE=DATE:20240603
SUMMARY:चित्तधर हृदय जन्मजयन्ती
DESCRIPTION:चित्तधर हृदय जन्मजयन्ती
END:VEVENT
END:VCALENDAR