BEGIN:VCALENDAR
VERSION:2.0
PRODID:-//Nepali Calendar//EN
BEGIN:VEVENT
UID:da206ae1dff4d83ea28d355e94f84a32@nepalicalendar.com
DTSTAMP:20260422T204154Z
DTSTART;VALUE=DATE:20240602
DTEND;VALUE=DATE:20240603
SUMMARY:स्मार्तहरूको अपरा एकादशी व्रत
DESCRIPTION:स्मार्तहरूको अपरा एकादशी व्रत
END:VEVENT
END:VCALENDAR