BEGIN:VCALENDAR
VERSION:2.0
PRODID:-//Nepali Calendar//EN
BEGIN:VEVENT
UID:a2cdbc8f3ae83c92a963cc61df7a6018@nepalicalendar.com
DTSTAMP:20260422T204403Z
DTSTART;VALUE=DATE:20240601
DTEND;VALUE=DATE:20240602
SUMMARY:विश्व बुवाआमा दिवस
DESCRIPTION:विश्व बुवाआमा दिवस
END:VEVENT
END:VCALENDAR