BEGIN:VCALENDAR
VERSION:2.0
PRODID:-//Nepali Calendar//EN
BEGIN:VEVENT
UID:3f9397261bb37b15637d1d8e78d0f9ab@nepalicalendar.com
DTSTAMP:20260422T204612Z
DTSTART;VALUE=DATE:20240531
DTEND;VALUE=DATE:20240601
SUMMARY:विश्व सुर्तीजन्य पदार्थ विरुद्धको दिवस
DESCRIPTION:विश्व सुर्तीजन्य पदार्थ विरुद्धको दिवस
END:VEVENT
END:VCALENDAR