BEGIN:VCALENDAR
VERSION:2.0
PRODID:-//Nepali Calendar//EN
BEGIN:VEVENT
UID:223ed948628d305298015974f678982c@nepalicalendar.com
DTSTAMP:20260422T204316Z
DTSTART;VALUE=DATE:20240530
DTEND;VALUE=DATE:20240531
SUMMARY:गोरखकाली पूजा
DESCRIPTION:गोरखकाली पूजा
END:VEVENT
END:VCALENDAR