BEGIN:VCALENDAR
VERSION:2.0
PRODID:-//Nepali Calendar//EN
BEGIN:VEVENT
UID:17ac7ce83b2dc1d12c0bb4a962a9c228@nepalicalendar.com
DTSTAMP:20260422T204219Z
DTSTART;VALUE=DATE:20240528
DTEND;VALUE=DATE:20240529
SUMMARY:गणतन्त्र दिवस
DESCRIPTION:गणतन्त्र दिवस
END:VEVENT
END:VCALENDAR