BEGIN:VCALENDAR
VERSION:2.0
PRODID:-//Nepali Calendar//EN
BEGIN:VEVENT
UID:7a08b39a2574864f7c2152b5e33a0482@nepalicalendar.com
DTSTAMP:20260422T223119Z
DTSTART;VALUE=DATE:20240523
DTEND;VALUE=DATE:20240524
SUMMARY:बैसाख स्नान समाप्ति
DESCRIPTION:बैसाख स्नान समाप्ति
END:VEVENT
END:VCALENDAR