BEGIN:VCALENDAR
VERSION:2.0
PRODID:-//Nepali Calendar//EN
BEGIN:VEVENT
UID:63db649634283aa6b80dc77027b0fe42@nepalicalendar.com
DTSTAMP:20260422T005638Z
DTSTART;VALUE=DATE:20250608
DTEND;VALUE=DATE:20250609
SUMMARY:प्रदोष व्रत
DESCRIPTION:प्रदोष व्रत
END:VEVENT
END:VCALENDAR