BEGIN:VCALENDAR
VERSION:2.0
PRODID:-//Nepali Calendar//EN
BEGIN:VEVENT
UID:8f01d894533e2a19cc7974a6edc6e596@nepalicalendar.com
DTSTAMP:20260422T222824Z
DTSTART;VALUE=DATE:20240523
DTEND;VALUE=DATE:20240524
SUMMARY:गोरखनाथ जयन्ती
DESCRIPTION:गोरखनाथ जयन्ती
END:VEVENT
END:VCALENDAR