BEGIN:VCALENDAR
VERSION:2.0
PRODID:-//Nepali Calendar//EN
BEGIN:VEVENT
UID:94982f60e95d9ca743c9d5423ee0c496@nepalicalendar.com
DTSTAMP:20260422T223032Z
DTSTART;VALUE=DATE:20240523
DTEND;VALUE=DATE:20240524
SUMMARY:कुर्म जयन्ती
DESCRIPTION:कुर्म जयन्ती
END:VEVENT
END:VCALENDAR