BEGIN:VCALENDAR
VERSION:2.0
PRODID:-//Nepali Calendar//EN
BEGIN:VEVENT
UID:af6616b40f9519dfaf23e56940191f35@nepalicalendar.com
DTSTAMP:20260422T222730Z
DTSTART;VALUE=DATE:20240523
DTEND;VALUE=DATE:20240524
SUMMARY:चण्डी पूर्णिमा
DESCRIPTION:चण्डी पूर्णिमा
END:VEVENT
END:VCALENDAR