BEGIN:VCALENDAR
VERSION:2.0
PRODID:-//Nepali Calendar//EN
BEGIN:VEVENT
UID:387e50f4b956236bbf61a77fc98bea2f@nepalicalendar.com
DTSTAMP:20260422T204618Z
DTSTART;VALUE=DATE:20240523
DTEND;VALUE=DATE:20240524
SUMMARY:चण्डेश्वरी जात्रा
DESCRIPTION:चण्डेश्वरी जात्रा
END:VEVENT
END:VCALENDAR