BEGIN:VCALENDAR
VERSION:2.0
PRODID:-//Nepali Calendar//EN
BEGIN:VEVENT
UID:86c2e18e50e61e175aa1d9b90fe9cd55@nepalicalendar.com
DTSTAMP:20260422T204532Z
DTSTART;VALUE=DATE:20240523
DTEND;VALUE=DATE:20240524
SUMMARY:उभौली पर्व
DESCRIPTION:उभौली पर्व
END:VEVENT
END:VCALENDAR