BEGIN:VCALENDAR
VERSION:2.0
PRODID:-//Nepali Calendar//EN
BEGIN:VEVENT
UID:05e3c74968e34a9bbf2601460f388999@nepalicalendar.com
DTSTAMP:20260422T204403Z
DTSTART;VALUE=DATE:20240523
DTEND;VALUE=DATE:20240524
SUMMARY:बुद्ध जयन्ती
DESCRIPTION:बुद्ध जयन्ती
END:VEVENT
END:VCALENDAR