BEGIN:VCALENDAR
VERSION:2.0
PRODID:-//Nepali Calendar//EN
BEGIN:VEVENT
UID:b5a3221f5f0f5756585db38fd97d2840@nepalicalendar.com
DTSTAMP:20260422T204245Z
DTSTART;VALUE=DATE:20240522
DTEND;VALUE=DATE:20240523
SUMMARY:अन्तर्राष्ट्रिय जैविक विविधता दिवस
DESCRIPTION:अन्तर्राष्ट्रिय जैविक विविधता दिवस
END:VEVENT
END:VCALENDAR