BEGIN:VCALENDAR
VERSION:2.0
PRODID:-//Nepali Calendar//EN
BEGIN:VEVENT
UID:600b2ca36a1fa78785cb6a59ffdbd791@nepalicalendar.com
DTSTAMP:20260422T204311Z
DTSTART;VALUE=DATE:20240522
DTEND;VALUE=DATE:20240523
SUMMARY:युगकवि सिद्धिचरण श्रेष्ठ जन्म जयन्ती
DESCRIPTION:युगकवि सिद्धिचरण श्रेष्ठ जन्म जयन्ती
END:VEVENT
END:VCALENDAR