BEGIN:VCALENDAR
VERSION:2.0
PRODID:-//Nepali Calendar//EN
BEGIN:VEVENT
UID:6a916dd94c2ecb42e90ae257868a1b89@nepalicalendar.com
DTSTAMP:20260422T204413Z
DTSTART;VALUE=DATE:20240521
DTEND;VALUE=DATE:20240522
SUMMARY:नरसिंह जयन्ती
DESCRIPTION:नरसिंह जयन्ती
END:VEVENT
END:VCALENDAR