BEGIN:VCALENDAR
VERSION:2.0
PRODID:-//Nepali Calendar//EN
BEGIN:VEVENT
UID:3ce924291d1293f5b618ac97f456c5da@nepalicalendar.com
DTSTAMP:20260422T204450Z
DTSTART;VALUE=DATE:20240520
DTEND;VALUE=DATE:20240521
SUMMARY:सोम प्रदोष व्रत
DESCRIPTION:सोम प्रदोष व्रत
END:VEVENT
END:VCALENDAR