BEGIN:VCALENDAR
VERSION:2.0
PRODID:-//Nepali Calendar//EN
BEGIN:VEVENT
UID:3d52606b6c517892ab6af5dfc53531fa@nepalicalendar.com
DTSTAMP:20260422T005638Z
DTSTART;VALUE=DATE:20250607
DTEND;VALUE=DATE:20250608
SUMMARY:निर्जला एकादशी व्रत (तुलसीको दल राख्ने)
DESCRIPTION:निर्जला एकादशी व्रत (तुलसीको दल राख्ने)
END:VEVENT
END:VCALENDAR